{
 "currentVersion": 11.3,
 "serviceDescription": "SceneTest_WEL",
 "name": "SceneTest_WEL",
 "description": "",
 "extent": {
  "xmin": 556500,
  "ymin": 5049000,
  "xmax": 558000,
  "ymax": 5051250,
  "spatialReference": {
   "wkid": 102058,
   "latestWkid": 6340
  }
 },
 "initialExtent": {
  "xmin": 556500,
  "ymin": 5049000,
  "xmax": 558000,
  "ymax": 5051250,
  "spatialReference": {
   "wkid": 102058,
   "latestWkid": 6340
  }
 },
 "fullExtent": {
  "xmin": 556500,
  "ymin": 5049000,
  "xmax": 558000,
  "ymax": 5051250,
  "spatialReference": {
   "wkid": 102058,
   "latestWkid": 6340
  }
 },
 "sortableFields": "",
 "bandCount": 1,
 "pixelType": "F32",
 "minValues": [
  475.23361206055
 ],
 "maxValues": [
  965.84429931641
 ],
 "meanValues": [
  679.45878163123
 ],
 "stdvValues": [
  127.95655353059
 ],
 "hasMultidimensions": false,
 "pixelSizeX": 0.3,
 "pixelSizeY": 0.3,
 "meanPixelSize": 0.3,
 "datasetFormat": "TIFF",
 "uncompressedSize": 150000000,
 "blockWidth": 128,
 "blockHeight": 128,
 "compressionType": "LZW",
 "bandNames": [
  "Band_1"
 ],
 "allowCopy": true,
 "allowAnalysis": true,
 "itemAccess": false,
 "inspectionCapabilities": "",
 "noDataValue": 3.3999999521443642E38,
 "noDataValues": [
  3.3999999521443642E38
 ],
 "minPixelSize": 0.29796254464794225,
 "maxPixelSize": 78109.09330419017,
 "copyrightText": "",
 "serviceDataType": "esriImageServiceDataTypeGeneric",
 "serviceSourceType": "esriImageServiceSourceTypeDataset",
 "objectIdField": "",
 "fields": [],
 "capabilities": "Image,Metadata,Mensuration",
 "defaultMosaicMethod": "Center",
 "allowedMosaicMethods": "",
 "sortField": "",
 "sortValue": null,
 "sortAscending": true,
 "mosaicOperator": "First",
 "defaultCompressionQuality": 75,
 "defaultResamplingMethod": "Bilinear",
 "maxImageHeight": 4100,
 "maxImageWidth": 15000,
 "singleFusedMapCache": true,
 "tileInfo": {
  "rows": 256,
  "cols": 256,
  "dpi": 96,
  "format": "LERC",
  "compressionQuality": 0,
  "lercError": 0.05,
  "origin": {
   "x": -9497963.942936342,
   "y": 9997963.942936342
  },
  "spatialReference": {
   "wkid": 102058,
   "latestWkid": 6340
  },
  "lods": [
   {
    "level": 0,
    "resolution": 78109.09330419017,
    "scale": 2.952154707559943E8
   },
   {
    "level": 1,
    "resolution": 39054.54665209509,
    "scale": 1.4760773537799716E8
   },
   {
    "level": 2,
    "resolution": 19527.273326047543,
    "scale": 7.380386768899858E7
   },
   {
    "level": 3,
    "resolution": 9763.636663023772,
    "scale": 3.690193384449929E7
   },
   {
    "level": 4,
    "resolution": 4881.818331511886,
    "scale": 1.8450966922249645E7
   },
   {
    "level": 5,
    "resolution": 2440.909165755943,
    "scale": 9225483.461124822
   },
   {
    "level": 6,
    "resolution": 1220.4545828779715,
    "scale": 4612741.730562411
   },
   {
    "level": 7,
    "resolution": 610.2272914389857,
    "scale": 2306370.8652812056
   },
   {
    "level": 8,
    "resolution": 305.11364571949287,
    "scale": 1153185.4326406028
   },
   {
    "level": 9,
    "resolution": 152.55682285974643,
    "scale": 576592.7163203014
   },
   {
    "level": 10,
    "resolution": 76.27841142987322,
    "scale": 288296.3581601507
   },
   {
    "level": 11,
    "resolution": 38.13920571493661,
    "scale": 144148.17908007535
   },
   {
    "level": 12,
    "resolution": 19.069602857468304,
    "scale": 72074.08954003768
   },
   {
    "level": 13,
    "resolution": 9.534801428734152,
    "scale": 36037.04477001884
   },
   {
    "level": 14,
    "resolution": 4.767400714367076,
    "scale": 18018.52238500942
   },
   {
    "level": 15,
    "resolution": 2.383700357183538,
    "scale": 9009.26119250471
   },
   {
    "level": 16,
    "resolution": 1.191850178591769,
    "scale": 4504.630596252355
   },
   {
    "level": 17,
    "resolution": 0.5959250892958845,
    "scale": 2252.3152981261774
   },
   {
    "level": 18,
    "resolution": 0.29796254464794225,
    "scale": 1126.1576490630887
   }
  ]
 },
 "storageInfo": {
  "storageFormat": "esriMapCacheStorageModeCompactV2",
  "packetSize": 128
 },
 "cacheType": "Elevation",
 "allowRasterFunction": true,
 "rasterFunctionInfos": [
  {
   "name": "None",
   "description": "",
   "help": ""
  }
 ],
 "rasterTypeInfos": [
  {
   "name": "Raster Dataset",
   "description": "Supports all ArcGIS Raster Datasets",
   "help": ""
  }
 ],
 "mensurationCapabilities": "Basic",
 "hasHistograms": true,
 "hasColormap": false,
 "hasRasterAttributeTable": false,
 "minScale": 2.952154707559943E8,
 "maxScale": 1126.1576490630887,
 "minLOD": 0,
 "maxLOD": 18,
 "exportTilesAllowed": false,
 "supportsStatistics": false,
 "supportsAdvancedQueries": false,
 "editFieldsInfo": null,
 "ownershipBasedAccessControlForRasters": null,
 "allowComputeTiePoints": false,
 "useStandardizedQueries": true,
 "advancedQueryCapabilities": {
  "useStandardizedQueries": true,
  "supportsStatistics": false,
  "supportsOrderBy": false,
  "supportsDistinct": false,
  "supportsPagination": false
 },
 "spatialReference": {
  "wkid": 102058,
  "latestWkid": 6340
 }
}
